BEGIN:VCALENDAR
VERSION:2.0
PRODID:-//MoDyCo - ECPv6.15.11//NONSGML v1.0//EN
CALSCALE:GREGORIAN
METHOD:PUBLISH
X-ORIGINAL-URL:https://modyco.fr
X-WR-CALDESC:Évènements pour MoDyCo
REFRESH-INTERVAL;VALUE=DURATION:PT1H
X-Robots-Tag:noindex
X-PUBLISHED-TTL:PT1H
BEGIN:VTIMEZONE
TZID:Europe/Paris
BEGIN:DAYLIGHT
TZOFFSETFROM:+0100
TZOFFSETTO:+0200
TZNAME:CEST
DTSTART:20240331T010000
END:DAYLIGHT
BEGIN:STANDARD
TZOFFSETFROM:+0200
TZOFFSETTO:+0100
TZNAME:CET
DTSTART:20241027T010000
END:STANDARD
BEGIN:DAYLIGHT
TZOFFSETFROM:+0100
TZOFFSETTO:+0200
TZNAME:CEST
DTSTART:20250330T010000
END:DAYLIGHT
BEGIN:STANDARD
TZOFFSETFROM:+0200
TZOFFSETTO:+0100
TZNAME:CET
DTSTART:20251026T010000
END:STANDARD
BEGIN:DAYLIGHT
TZOFFSETFROM:+0100
TZOFFSETTO:+0200
TZNAME:CEST
DTSTART:20260329T010000
END:DAYLIGHT
BEGIN:STANDARD
TZOFFSETFROM:+0200
TZOFFSETTO:+0100
TZNAME:CET
DTSTART:20261025T010000
END:STANDARD
END:VTIMEZONE
BEGIN:VEVENT
DTSTART;TZID=Europe/Paris:20250303T140000
DTEND;TZID=Europe/Paris:20250303T170000
DTSTAMP:20260423T021303
CREATED:20250331T084410Z
LAST-MODIFIED:20250331T090501Z
UID:3953-1741010400-1741021200@modyco.fr
SUMMARY:Séminaire de lecture « Philosophie de la linguistique » : discussion entre Paul Henry et Oswald Ducrot sur la présupposition
DESCRIPTION:Hugo Dumoulin (Modyco\, Université Paris Nanterre) invite son collègue Louis Rouillé (FNRS\, ULiège) pour lancer ensemble la première séance du séminaire de lecture « Philosophie de la linguistique »\, le lundi 3 mars 14h-17h en salle A409\, Université Paris Nanterre\, bâtiment René Rémond (A). \nNous allons lire et discuter des textes de Paul Henry et Oswald Ducrot sur la présupposition\, textes importants pour comprendre le débat entre analyse du discours et pragmatique s’agissant de l’interface syntaxe/sémantique. \nLes textes que nous allons discuter lors de cette première séance seront :\n    – Oswald Ducrot\, Le Dire et le dit\, ch. 1.1 et 1.2. “présupposés et sous-entendus”\n    – Paul Henry\, Le Mauvais outil\, partie I\, ch. 2 “De la présupposition logique à l’acte de langage”\n    – Oswald Ducrot\, en annexe à Le Mauvais outil : “Note sur la présupposition et le sens littéral » \nPrésentation du séminaire “Philosophie de la linguistique” : \nNous parlons ici de philosophie de la linguistique comme on parle de philosophie de la biologie ou des mathématiques. Il s’agira en particulier d’analyser des résultats établis et des méthodes utilisées dans la linguistique contemporaine. Ce séminaire ouvert à toutes et à tous s’organise autour de lectures de textes venant d’univers épistémologiques différents\, dans un esprit explicite de mise en dialogue de plusieurs courants de la linguistique contemporaine. \nLes premières séances du séminaire sont organisées autour une lecture croisée de textes ciblés de Paul Henry et Oswald Ducrot\, sur le phénomène de la présupposition et l’interface syntaxe/sémantique\, permettant de réactualiser les points de discussion entre analyse du discours et pragmatique. Nous pourrons consacrer plusieurs séances à ce débat Henry/Ducrot. \nPar la suite\, nous organiserons plusieurs séances sur ce que l’on peut appeler le “tournant dynamique” de la sémantique. Il s’agira d’étudier d’un côté les formalismes issus des travaux de Kartunnen\, Heim\, Kamp\, Gronendijk & Stokhof sur l’étude de phénomènes comme la présupposition\, la résolution des dépendances anaphoriques\, ou encore le temps verbal; d’un autre côté\, l’update semantics\, la notion d’accommodation\, ou encore la sémantique dite game-théorétique\, dont les travaux pionniers sont\, inter alia\, ceux de Hintikka\, Stalnaker\, ou van Benthem\, sur l’étude des effets du contexte sur le flux d’information dans la conversation ordinaire.  \nNous pouvons rendre accessibles les textes aux collègues qui nous les demanderaient (mail aux organisateurs) \nProgramme des séances : \n– lundi 3 mars 14h-17h : La discussion entre Oswald Ducrot et Paul Henry \n– mercredi 23 avril 14h-17h : La discussion entre Oswald Ducrot et John Searle \n– semaine du 19 mai : Lectures de Kartunnen
URL:https://modyco.fr/event/seminaire-de-lecture-philosophie-de-la-linguistique-discussion-entre-paul-henry-et-oswald-ducrot-sur-la-presupposition/
LOCATION:Université Paris Nanterre\, 200 avenue de la république\, Nanterre\, 92000
CATEGORIES:Séminaire "Philosophie de la linguistique"
END:VEVENT
BEGIN:VEVENT
DTSTART;TZID=Europe/Paris:20250304T100000
DTEND;TZID=Europe/Paris:20250304T120000
DTSTAMP:20260423T021303
CREATED:20241219T102721Z
LAST-MODIFIED:20250211T161804Z
UID:3717-1741082400-1741089600@modyco.fr
SUMMARY:Virginie Lethier (Université Marie et Louis Pasteur) : Comment la textométrie peut-elle nous aider à décrire et penser les genres de discours ?
DESCRIPTION:Le prochain séminaire du laboratoire MoDyCO aura lieu mardi 4 mars\, de 10h à 12h en la salle de séminaire 2 au bâtiment Max Weber (W) à l’Université Paris Nanterre.  \nComment la textométrie peut-elle nous aider à décrire et penser les genres de discours ? \nVirginie Lethier\, ELLIADD\, Université Marie et Louis Pasteur (ex. Université de Franche-Comté)\, \nInscrite en analyse du discours outillée (Née et. al\, 2018)\, cette communication se propose d’interroger la façon dont les méthodes d’analyse de données textuelles assistées par l’informatique et la statistique permettent de décrire les genres de discours (Bakhtine\, 1984)\, notion jouant « le rôle  d’interface entre le discours et son extérieur » (Sitri\, 2022 : 3). Ainsi\, il s’agit d’interroger la façon dont la textométrie peut contribuer à éclairer les ordres de détermination assurés par le genre de discours et ses facteurs de variation.\nAprès avoir rappelé les particularités qui distinguent la textométrie (Heiden et. al \, 2010) des autres traditions de l’analyse de données textuelles (ADT)\, nous présenterons différentes classes d’analyse menées sur des corpus issus du discours médiatique et du discours institutionnel. La synthèse de ces explorations illustrera les apports de la textométrie pour la description des régularités (notamment thématiques\, syntaxiques\, énonciatives) que le genre de discours contraint. Dans un troisième mouvement\, en nous concentrant sur le « macro-genre » du rapport (Née\, Oger\, Sitri\, 2017)\, nous montrerons comment la textométrie permet de mettre en lumière des variations liées à la « sphère d’activité » (Bakhtine\, 1984) dans laquelle le genre s’actualise.
URL:https://modyco.fr/event/virginie-lethier-universite-de-franche-comte/
LOCATION:bâtiment Weber (W)\, salle de séminaire (au rdc)\, Université Paris Nanterre\, 200 avenue de la République\, Nanterre\, France
CATEGORIES:Séminaire doctoral de MoDyCo 2024-2025
END:VEVENT
BEGIN:VEVENT
DTSTART;VALUE=DATE:20250318
DTEND;VALUE=DATE:20250319
DTSTAMP:20260423T021303
CREATED:20250304T134036Z
LAST-MODIFIED:20250304T134759Z
UID:3929-1742256000-1742342399@modyco.fr
SUMMARY:journée d'étude "Urbanisme\, TAL et textométrie. Comprendre les conceptions des dynamiques urbaines." ?
DESCRIPTION:La journée “Urbanisme\, TAL et textométrie. Comprendre les conceptions des dynamiques urbaines” réunit des chercheurs de différents domaines : urbanisme\, architecture\, géographie\, linguistique\, TAL\, autour des questions liées à l’analyse et à la compréhension des dynamiques urbaines. Les recherches présentées portent sur l’étude de textes relevant de l’urbanisme\, à l’aide de techniques et de méthodes du TAL et de la textométrie. La journée est ainsi l’occasion de confronter ces deux approches ainsi que les résultats obtenus. Cette journée vient clôturer le projet Vital (Ville et Traitement Automatique du Langage) porté par le Labex Les Passés dans le Présent. \nDate : Mardi 18 mars 2025\nLieu : Bâtiment Max Weber\, salle W séminaire 1 (rdc)\, Université Paris Nanterre\nComité d’organisation :\nIris Eshkol-Taravella (MoDyCo\, UMR 7114)\nOlivier Ratouis (Lavue\, UMR 7218) \nPROGRAMME \n1. VITAL : Ville et Traitement Automatique du Langage\n9h30-9h45 : Présentation du projet (Iris Eshkol-Taravella\, Olivier Ratouis)\n9h45-10h15 : Présentation des données étudiées (Alain Guez\, Olivier Ratouis)\n10h15-10h45 : Dynamique urbaine et ses caractéristiques dans les textes (Rémi Simon\, Iris Eshkol-Taravella)\n10h45-11h15 : Repérage automatique de la dynamique urbaine et de ses caractéristiques (Iris Eshkol-Taravella\, Amina Bouteldja\, Yidi Huang\, Jade Mekki)\nPause : 15 min\n11h30-12h00 : Analyse des données du point de vue de l’urbanisme (Alain Guez\, Olivier Ratouis\, Melissa Mahmoudi)\n12h00-12h30 : Analyse des données du point de vue de la linguistique de corpus (Iris Eshkol-Taravella)\n12h30 – 13h00 : Analyse des données du point de vue de la textométrie (Hugo Dumoulin\, Iris Eshkol-Taravella) \n*************** Déjeuner : 13h-14h30****************************************** \n2. Autres regards sur la dynamique urbaine\n14h30-15h00 : Les dynamiques urbaines à Cotonou (Melchior Kadja\, Monica Coralli\, Fabrice Banon)\n15h00-15h30 : La perception de la dynamique urbaine : le corpus de l’INA (Aurore Lessieux)\nPause : 15 min\n15h45-16h15 : Analyse textométrique des représentations du changement urbain dans les documents de planification de l’Ile-de-France (1919-2019) (Isabelle Chesneau)\n16h15-16h45 : Les politiques de déplacements/mobilités\, comme exemple de planification stratégique/sectorielle d’agglomération analysé par la textométrie (Thomas Buhler\, Léo Magnin-Hoffbeck\, Annabel Richeton) \n16h45-17h30 : Discussion générale
URL:https://modyco.fr/event/journee-detude-urbanisme-tal-et-textometrie-comprendre-les-conceptions-des-dynamiques-urbaines/
LOCATION:bâtiment Weber (W)\, salle de séminaire (au rdc)\, Université Paris Nanterre\, 200 avenue de la République\, Nanterre\, France
CATEGORIES:Journées d'études
END:VEVENT
BEGIN:VEVENT
DTSTART;TZID=Europe/Paris:20250325T140000
DTEND;TZID=Europe/Paris:20250325T160000
DTSTAMP:20260423T021303
CREATED:20250109T144730Z
LAST-MODIFIED:20250211T094528Z
UID:3848-1742911200-1742918400@modyco.fr
SUMMARY:Présentation de LABELIT : outil web open-source d'annotation de données (texte\, vocale et vidéo)
DESCRIPTION:Présentation de l’outil web open-source d’annotation de données (texte\, vocale et vidéo) LABELIT  “Multi-purpose and extensible annotation solution” par Consuelo Innocenti (VoiceLab) et Samer Nasreddine (BatvoiceAI)\nLabelit est une solution open-source maintenue par BatvoiceAI et supportée par Le VoiceLab.\nElle a été conçue pour offrir flexibilité et extensibilité\, permettant divers schémas d’annotation sur du texte\, de l’audio\, de la vidéo ou une combinaison de ceux-ci.\nLe lien Github : https://github.com/voicelab-org/labelit \nDans le cadre du séminaire Modyco-Help\nHoraire : 14h-16h\nLieu : salle A405\, bâtiment Rémond\, 4ème étage\, Université Paris Nanterre\nSéance organisée par Anne Lacheret-Dujour et Aude Da Cruz Lima
URL:https://modyco.fr/event/labelit-outil-web-open-source-dannotation-de-donnees-texte-vocale-et-video/
LOCATION:Université Paris Nanterre\, 200 avenue de la république\, Nanterre\, 92000
END:VEVENT
END:VCALENDAR