BEGIN:VCALENDAR
VERSION:2.0
PRODID:-//MoDyCo - ECPv6.15.11//NONSGML v1.0//EN
CALSCALE:GREGORIAN
METHOD:PUBLISH
X-ORIGINAL-URL:https://modyco.fr
X-WR-CALDESC:Évènements pour MoDyCo
REFRESH-INTERVAL;VALUE=DURATION:PT1H
X-Robots-Tag:noindex
X-PUBLISHED-TTL:PT1H
BEGIN:VTIMEZONE
TZID:Europe/Paris
BEGIN:DAYLIGHT
TZOFFSETFROM:+0100
TZOFFSETTO:+0200
TZNAME:CEST
DTSTART:20240331T010000
END:DAYLIGHT
BEGIN:STANDARD
TZOFFSETFROM:+0200
TZOFFSETTO:+0100
TZNAME:CET
DTSTART:20241027T010000
END:STANDARD
BEGIN:DAYLIGHT
TZOFFSETFROM:+0100
TZOFFSETTO:+0200
TZNAME:CEST
DTSTART:20250330T010000
END:DAYLIGHT
BEGIN:STANDARD
TZOFFSETFROM:+0200
TZOFFSETTO:+0100
TZNAME:CET
DTSTART:20251026T010000
END:STANDARD
BEGIN:DAYLIGHT
TZOFFSETFROM:+0100
TZOFFSETTO:+0200
TZNAME:CEST
DTSTART:20260329T010000
END:DAYLIGHT
BEGIN:STANDARD
TZOFFSETFROM:+0200
TZOFFSETTO:+0100
TZNAME:CET
DTSTART:20261025T010000
END:STANDARD
END:VTIMEZONE
BEGIN:VEVENT
DTSTART;TZID=Europe/Paris:20250204T100000
DTEND;TZID=Europe/Paris:20250204T120000
DTSTAMP:20260423T033111
CREATED:20241219T102310Z
LAST-MODIFIED:20250122T095844Z
UID:3715-1738663200-1738670400@modyco.fr
SUMMARY:Laurice Tuller (Univ. Tours) : Le langage dans l’autisme : modularité externe et interne
DESCRIPTION:Laurice Tuller\, professeure de linguistique émérite de l’université de Tours (UMR Inserm U 1253 – Autisme et Neurodéveloppement).  \nLe langage dans l’autisme : modularité externe et interne \nLe langage dans l’autisme fournit une perspective intéressante pour l’exploration de la modularité du langage humain\, un principe central de certaines théories linguistiques\, mais pas d’autres. Les habiletés avec les aspects structuraux du langage\, même chez les personnes sur le spectre de l’autisme qui s’expriment verbalement\, varient considérablement\, allant d’un langage structurel complexe\, approprié pour l’âge de l’individu\, à des habiletés en langage structurel sévèrement compromises.  Il est également observé sur le spectre de l’autisme de la variation considérable pour ce qui est de l’expression de symptômes autistiques et la présence de conditions associées\, y compris ceux et celles fréquemment supposés être des prérequis pour l’acquisition typique du langage\, comme par exemple l’interaction sociale. A partir d’une étude de 51 enfants autistes âgés de 6 à 12 ans\, représentant assez largement la variété dans le spectre et utilisant des outils choisis pour leur pertinence pour évaluer le langage chez des enfants autistiques\, nous suggérerons que le langage dans l’autisme se caractérise par la “grande” modularité (externe) et la “petite” modularité (interne)\, avec des dissociations entre la compétence linguistique et d’autres domaines cognitifs et entre différentes composantes de la compétence linguistique. \nmardi 04 février de 10h à 12h dans la salle de séminaire 2 du bâtiment Max Weber\, Université Paris Nanterre
URL:https://modyco.fr/event/laurice-tuller-le-langage-dans-l-autisme/
LOCATION:Université Nanterre. Salle Séminaire 2 au Rez-de-chaussée du bâtiment Max Weber (en face du bâtiment A\, René Rémond).\, Université Nanterre. Salle Séminaire 2 au Rez-de-chaussée du bâtiment Max Weber (en face du bâtiment A\, René Rémond). 
CATEGORIES:Séminaire doctoral de MoDyCo 2024-2025
END:VEVENT
BEGIN:VEVENT
DTSTART;VALUE=DATE:20250205
DTEND;VALUE=DATE:20250208
DTSTAMP:20260423T033111
CREATED:20250120T145822Z
LAST-MODIFIED:20250120T161856Z
UID:3888-1738713600-1738972799@modyco.fr
SUMMARY:Colloque international "Actualité de Michel Pêcheux"
DESCRIPTION:Le colloque international “Actualité de Michel Pêcheux” aura lieu à l’université Paris Nanterre les 5 et 6 février 2025\, et à l’université Paris-Est Créteil le 7 février.  \nColloque organisé en collaboration avec des membres du laboratoire Modyco\, qui participent au comité d’organisation : Ricardo Bibiano\, Cyril Bruneau\, Yoohee Yoon\, et Hugo Dumoulin. \nPrésentation\nLit-on Michel Pêcheux aujourd’hui ? Quelle est la place qu’il occupe dans le champ de l’analyse du discours (AD) ? Comment les concepts qu’il a contribué à forgés sont-ils déclinés et retravaillés ? Et finalement : pourquoi faut-il lire Pêcheux aujourd’hui et comment le lire ? Telles sont les interrogations à l’origine de ce colloque\, alors que les questions de la langue\, du politique\, et du sujet – concepts placés chez Pêcheux sous les noms de Saussure\, Marx et Freud – semblent susciter de nouveaux débats en analyse du discours\, et au-delà.\nCe colloque s’inscrit ainsi dans une conjoncture marquée par la thèse récente d’Hugo Dumoulin sur le concept d’énonciation chez Foucault et Pêcheux (2022) ainsi que par la publication en cours d’un inédit de Pêcheux (Le structuralisme brûle-t-il ? à paraître aux Editions Lambert Lucas) et d’un dossier sur les débats auxquels il a participé au Cercle d’Etudes et de Recherches Marxistes (La Pensée\, à paraître) \nLien vers le programme du colloque
URL:https://modyco.fr/event/colloque-international-actualite-de-michel-pecheux/
LOCATION:Université Paris Nanterre\, 200 avenue de la république\, Nanterre\, 92000
CATEGORIES:Colloques
END:VEVENT
END:VCALENDAR