BEGIN:VCALENDAR
VERSION:2.0
PRODID:-//MoDyCo - ECPv6.15.11//NONSGML v1.0//EN
CALSCALE:GREGORIAN
METHOD:PUBLISH
X-ORIGINAL-URL:https://modyco.fr
X-WR-CALDESC:Évènements pour MoDyCo
REFRESH-INTERVAL;VALUE=DURATION:PT1H
X-Robots-Tag:noindex
X-PUBLISHED-TTL:PT1H
BEGIN:VTIMEZONE
TZID:Europe/Paris
BEGIN:DAYLIGHT
TZOFFSETFROM:+0100
TZOFFSETTO:+0200
TZNAME:CEST
DTSTART:20230326T010000
END:DAYLIGHT
BEGIN:STANDARD
TZOFFSETFROM:+0200
TZOFFSETTO:+0100
TZNAME:CET
DTSTART:20231029T010000
END:STANDARD
BEGIN:DAYLIGHT
TZOFFSETFROM:+0100
TZOFFSETTO:+0200
TZNAME:CEST
DTSTART:20240331T010000
END:DAYLIGHT
BEGIN:STANDARD
TZOFFSETFROM:+0200
TZOFFSETTO:+0100
TZNAME:CET
DTSTART:20241027T010000
END:STANDARD
BEGIN:DAYLIGHT
TZOFFSETFROM:+0100
TZOFFSETTO:+0200
TZNAME:CEST
DTSTART:20250330T010000
END:DAYLIGHT
BEGIN:STANDARD
TZOFFSETFROM:+0200
TZOFFSETTO:+0100
TZNAME:CET
DTSTART:20251026T010000
END:STANDARD
END:VTIMEZONE
BEGIN:VEVENT
DTSTART;TZID=Europe/Paris:20240213T100000
DTEND;TZID=Europe/Paris:20240213T120000
DTSTAMP:20260423T202350
CREATED:20230412T143847Z
LAST-MODIFIED:20240209T151808Z
UID:3383-1707818400-1707825600@modyco.fr
SUMMARY:Séminaire Psycholinguistique. Nausicaa Pouscoulous
DESCRIPTION:Div of Psychology & Lang Sciences. University College London \n  \n\nMetaphor comprehension in (a)typical development   \n\n\nFigurative terms\, such as metaphors\, are pervasive in daily language use. To become a competent speaker of a language a child must learn to interpret correctly metaphorical expressions never heard before (e.g.\, “After her bath\, Ann is a hedgehog” when Ann has spiky hair). To do so\, the child needs first to recognise the syntactic structure where the metaphorical term appears\, understand its literal meaning\, then make a full-fledged pragmatic inference\, identifying the relevant metaphorical features in context (e.g.\, spikiness)\, and ignore the inappropriate literal meaning. Early research suggests this is a slow process\, yet recent findings indicate that typically developing children are competent from pre-school years at understanding metaphors when tested with paradigms controlling for the child’s vocabulary\, the type of metaphor (novel or conventional) and the cognitive demands of the task. But\, what happens for atypically developing children? I will present three studies investigating metaphor comprehension in children with Developmental Language Disorder\, autism and Down syndrome\, using a reference assignment act-out task or a picture selection task. In line with recent metanalyses\, the findings suggest that difficulties with figurative language might be linked to immature linguistic skills\, rather than impaired theory of mind or autistic symptomatology as is often suggested.  
URL:https://modyco.fr/event/seminaire-psycholinguistique-nausicaa-pouscoulous/
LOCATION:Université Paris Nanterre\, Bat. Weber\, Salle de séminaire 1\, Université Paris Nanterre\, Bat. Weber\, Salle de séminaire 1
CATEGORIES:Séminaire Psycholinguistique, Neurocognition, Acquisitions et Variations
END:VEVENT
END:VCALENDAR