BEGIN:VCALENDAR
VERSION:2.0
PRODID:-//MoDyCo - ECPv6.15.11//NONSGML v1.0//EN
CALSCALE:GREGORIAN
METHOD:PUBLISH
X-WR-CALNAME:MoDyCo
X-ORIGINAL-URL:https://modyco.fr
X-WR-CALDESC:Évènements pour MoDyCo
REFRESH-INTERVAL;VALUE=DURATION:PT1H
X-Robots-Tag:noindex
X-PUBLISHED-TTL:PT1H
BEGIN:VTIMEZONE
TZID:Europe/Paris
BEGIN:DAYLIGHT
TZOFFSETFROM:+0100
TZOFFSETTO:+0200
TZNAME:CEST
DTSTART:20220327T010000
END:DAYLIGHT
BEGIN:STANDARD
TZOFFSETFROM:+0200
TZOFFSETTO:+0100
TZNAME:CET
DTSTART:20221030T010000
END:STANDARD
BEGIN:DAYLIGHT
TZOFFSETFROM:+0100
TZOFFSETTO:+0200
TZNAME:CEST
DTSTART:20230326T010000
END:DAYLIGHT
BEGIN:STANDARD
TZOFFSETFROM:+0200
TZOFFSETTO:+0100
TZNAME:CET
DTSTART:20231029T010000
END:STANDARD
BEGIN:DAYLIGHT
TZOFFSETFROM:+0100
TZOFFSETTO:+0200
TZNAME:CEST
DTSTART:20240331T010000
END:DAYLIGHT
BEGIN:STANDARD
TZOFFSETFROM:+0200
TZOFFSETTO:+0100
TZNAME:CET
DTSTART:20241027T010000
END:STANDARD
END:VTIMEZONE
BEGIN:VEVENT
DTSTART;TZID=Europe/Paris:20230307T100000
DTEND;TZID=Europe/Paris:20230307T120000
DTSTAMP:20260424T122006
CREATED:20221004T125318Z
LAST-MODIFIED:20230219T135333Z
UID:3071-1678183200-1678190400@modyco.fr
SUMMARY:Séminaire doctoral du 7 mars 2023
DESCRIPTION:Intervenants : Rim Zelfani et Bernard Bosredon \nRésumé de Bernard Bosredon (CLESTHIA\, Sorbonne nouvelle) \nTitre de son intervention : « Autour du nom propre » \nRésumé: \nTrois formes de réductionnisme font obstacle à une compréhension satisfaisante des noms propres : (1) se limiter à des observations grammaticales pour en faire une sous-classe nominale quelque peu marginale\, (2) négliger dans l’analyse leur nature de nom propre\, c’est à dire la « matière linguistique » spécifique qui les constitue en nomenclatures et s’attacher exclusivement à l’étude de leurs propriétés sémantico-référentielles comme le fait la philosophie du langage\, (3) ne pas mesurer les effets de la construction de nomenclatures sur leur morphologie\, passer sous silence  non seulement la raison de leur diversité foisonnante mais aussi ce qui leur est commun au plan fonctionnel\, dans leurs différents champs d’usage ou domaines de nomination (lieux\, espaces\, individus\, etc.). Ces orientations de recherche peuvent ouvrir des perspectives intéressantes pour affiner l’analyse linguistique des nomenclatures\, i.e. les domaines d’usage de la nomination monoréférentielle. \nRepères bibliographiques : \nBosredon B. 1997 Les titres de tableaux : une pragmatique de l’identification\, P.U.F. \nBosredon B. 2012 « Entre dénomination et catégorisation : la signalétique »\, Langue française 2012\, pp. 11-26. \nBosredon B. Tamba I. 1999 « Une ballade en toponymie\, de la rue Descartes à la rue de Rennes »\, LINX 40\, 55-67. \nCislaru G. 2014 « Noms propres : domaine de définition\, domaine de référence\, sens »\, Presses Universitaires de Reims\, pp. 467-481 \nKleiber G. 1981 Problèmes de référence : descriptions définies et noms propres\, Klincksieck. \n 
URL:https://modyco.fr/event/seminaire-doctoral-du-7-mars-2023/
LOCATION:Université Nanterre. Salle Séminaire 2 au Rez-de-chaussée du bâtiment Max Weber (en face du bâtiment A\, René Rémond).\, Université Nanterre. Salle Séminaire 2 au Rez-de-chaussée du bâtiment Max Weber (en face du bâtiment A\, René Rémond). 
CATEGORIES:Séminaire doctoral de MoDyCo
END:VEVENT
BEGIN:VEVENT
DTSTART;TZID=Europe/Paris:20230314T100000
DTEND;TZID=Europe/Paris:20230314T120000
DTSTAMP:20260424T122006
CREATED:20221107T124907Z
LAST-MODIFIED:20221108T193236Z
UID:3227-1678788000-1678795200@modyco.fr
SUMMARY:Séminaire Psycholinguistique. Stéphanie Bellochi
DESCRIPTION:https://epsylon.www.univ-montp3.fr/fr/annuaire_recherche/stephanie-bellocchi \n  \n 
URL:https://modyco.fr/event/seminaire-psycholinguistique-stephanie-bellochi/
LOCATION:Université Paris Nanterre\, Bat. Weber\, Salle de séminaire 1\, Université Paris Nanterre\, Bat. Weber\, Salle de séminaire 1
CATEGORIES:Séminaire Psycholinguistique, Neurocognition, Acquisitions et Variations
END:VEVENT
BEGIN:VEVENT
DTSTART;TZID=Europe/Paris:20230327T140000
DTEND;TZID=Europe/Paris:20230327T160000
DTSTAMP:20260424T122006
CREATED:20230219T132503Z
LAST-MODIFIED:20230320T081308Z
UID:3337-1679925600-1679932800@modyco.fr
SUMMARY:Séminaire Epistémologie du langage du 27 mars 2023 : Guillaume Desagulier
DESCRIPTION:Séance reportée au lundi 12 juin 2023 (14h – 16h)
URL:https://modyco.fr/event/seminaire-epistemologie-du-langage-du-27-mars-guillaume-desagulier/
CATEGORIES:Séminaire Epistémologie des Sciences du Langage 2022-2023
END:VEVENT
END:VCALENDAR