BEGIN:VCALENDAR
VERSION:2.0
PRODID:-//MoDyCo - ECPv6.15.11//NONSGML v1.0//EN
CALSCALE:GREGORIAN
METHOD:PUBLISH
X-ORIGINAL-URL:https://modyco.fr
X-WR-CALDESC:Évènements pour MoDyCo
REFRESH-INTERVAL;VALUE=DURATION:PT1H
X-Robots-Tag:noindex
X-PUBLISHED-TTL:PT1H
BEGIN:VTIMEZONE
TZID:Europe/Paris
BEGIN:DAYLIGHT
TZOFFSETFROM:+0100
TZOFFSETTO:+0200
TZNAME:CEST
DTSTART:20250330T010000
END:DAYLIGHT
BEGIN:STANDARD
TZOFFSETFROM:+0200
TZOFFSETTO:+0100
TZNAME:CET
DTSTART:20251026T010000
END:STANDARD
BEGIN:DAYLIGHT
TZOFFSETFROM:+0100
TZOFFSETTO:+0200
TZNAME:CEST
DTSTART:20260329T010000
END:DAYLIGHT
BEGIN:STANDARD
TZOFFSETFROM:+0200
TZOFFSETTO:+0100
TZNAME:CET
DTSTART:20261025T010000
END:STANDARD
BEGIN:DAYLIGHT
TZOFFSETFROM:+0100
TZOFFSETTO:+0200
TZNAME:CEST
DTSTART:20270328T010000
END:DAYLIGHT
BEGIN:STANDARD
TZOFFSETFROM:+0200
TZOFFSETTO:+0100
TZNAME:CET
DTSTART:20271031T010000
END:STANDARD
END:VTIMEZONE
BEGIN:VEVENT
DTSTART;TZID=Europe/Paris:20260609T100000
DTEND;TZID=Europe/Paris:20260609T120000
DTSTAMP:20260422T062342
CREATED:20260217T103308Z
LAST-MODIFIED:20260413T081453Z
UID:4102-1780999200-1781006400@modyco.fr
SUMMARY:Séminaire doctoral de Modyco : La protection des données dans les projets de recherche\, Service Protection des Données du CNRS
DESCRIPTION:Le prochain séminaire du laboratoire MoDyCo aura lieu mardi 9 juin à 10h dans la salle de séminaire 2 du bâtiment WEBER à l’Université Paris Nanterre.\n \n\nCette séance transversale (pour les 3 pôles du laboratoire) accueillera l’intervention de Gaëlle Bujan\, Déléguée à la Protection des Données (DPD) du CNRS\, et de Kodjo Kokou\, Juriste au Service Protection des Données du CNRS\, sur la protection des données personnelles dans les activités et projets de recherche.\n\n \n\nLe résumé de la présentation est à venir.
URL:https://modyco.fr/event/seminaire-doctoral-de-modyco-protection-donnees-spd-cnrs/
LOCATION:Université Paris Nanterre. Salle de Séminaires 2\, au Rez-de-chaussée du bâtiment Max Weber\, Université Paris Nanterre. Salle de Séminaires 2\, au Rez-de-chaussée du bâtiment Max Weber 
CATEGORIES:Séminaire doctoral de MoDyCo,Séminaire doctoral de MoDyCo 2025-2026
END:VEVENT
END:VCALENDAR