BEGIN:VCALENDAR
VERSION:2.0
PRODID:-//MoDyCo - ECPv6.15.11//NONSGML v1.0//EN
CALSCALE:GREGORIAN
METHOD:PUBLISH
X-WR-CALNAME:MoDyCo
X-ORIGINAL-URL:https://modyco.fr
X-WR-CALDESC:Évènements pour MoDyCo
REFRESH-INTERVAL;VALUE=DURATION:PT1H
X-Robots-Tag:noindex
X-PUBLISHED-TTL:PT1H
BEGIN:VTIMEZONE
TZID:Europe/Paris
BEGIN:DAYLIGHT
TZOFFSETFROM:+0100
TZOFFSETTO:+0200
TZNAME:CEST
DTSTART:20240331T010000
END:DAYLIGHT
BEGIN:STANDARD
TZOFFSETFROM:+0200
TZOFFSETTO:+0100
TZNAME:CET
DTSTART:20241027T010000
END:STANDARD
BEGIN:DAYLIGHT
TZOFFSETFROM:+0100
TZOFFSETTO:+0200
TZNAME:CEST
DTSTART:20250330T010000
END:DAYLIGHT
BEGIN:STANDARD
TZOFFSETFROM:+0200
TZOFFSETTO:+0100
TZNAME:CET
DTSTART:20251026T010000
END:STANDARD
BEGIN:DAYLIGHT
TZOFFSETFROM:+0100
TZOFFSETTO:+0200
TZNAME:CEST
DTSTART:20260329T010000
END:DAYLIGHT
BEGIN:STANDARD
TZOFFSETFROM:+0200
TZOFFSETTO:+0100
TZNAME:CET
DTSTART:20261025T010000
END:STANDARD
END:VTIMEZONE
BEGIN:VEVENT
DTSTART;TZID=Europe/Paris:20251202T100000
DTEND;TZID=Europe/Paris:20251202T120000
DTSTAMP:20260422T105419
CREATED:20251009T142712Z
LAST-MODIFIED:20251009T142754Z
UID:4075-1764669600-1764676800@modyco.fr
SUMMARY:Séminaire doctoral de Modyco : Mathilde de Saint Leger (UPN) et Atanas Tchobanov (UPN)
DESCRIPTION:Le prochain séminaire du laboratoire MoDyCO aura lieu mardi 2 décembre\, de 10h à 12h dans l’amphithéâtre du Bâtiment de la Formation Continue (BFC) à l’Université Paris Nanterre.\n \n\nIl accueillera deux intervenants :\n\n \n\n\nMathilde de Saint Leger (UPN\,MoDyCo)\, dont la présentation est intitulée  : “Calliope\, logiciel d’analyse de données textuelles : est-il toujours d’actualité à l’heure de l’IA ?”\n\n\n \n\n\nAtanas Tchobanov (UPN\, MoDyCo) dont la présentation est intitulée : “MoDyCo et IA – prise en main des nouveaux outils du laboratoire.”\n\n\n \n\n\nLes résumés de leurs présentations sont à venir.
URL:https://modyco.fr/event/seminaire-doctoral-de-modyco-mathilde-de-saint-leger-upn-et-atanas-tchobanov-upn/
LOCATION:Université Paris Nanterre- Batiment de la Formation Continue  (BFC) – Salle de conférences – amphithéâtre\, Paris Nanterre- Batiment de la Formation Continue - Salle de conférences
CATEGORIES:Séminaire doctoral de MoDyCo,Séminaire doctoral de MoDyCo 2025-2026
END:VEVENT
END:VCALENDAR