BEGIN:VCALENDAR
VERSION:2.0
PRODID:-//MoDyCo - ECPv6.15.11//NONSGML v1.0//EN
CALSCALE:GREGORIAN
METHOD:PUBLISH
X-WR-CALNAME:MoDyCo
X-ORIGINAL-URL:https://modyco.fr
X-WR-CALDESC:Évènements pour MoDyCo
REFRESH-INTERVAL;VALUE=DURATION:PT1H
X-Robots-Tag:noindex
X-PUBLISHED-TTL:PT1H
BEGIN:VTIMEZONE
TZID:Europe/Paris
BEGIN:DAYLIGHT
TZOFFSETFROM:+0100
TZOFFSETTO:+0200
TZNAME:CEST
DTSTART:20220327T010000
END:DAYLIGHT
BEGIN:STANDARD
TZOFFSETFROM:+0200
TZOFFSETTO:+0100
TZNAME:CET
DTSTART:20221030T010000
END:STANDARD
BEGIN:DAYLIGHT
TZOFFSETFROM:+0100
TZOFFSETTO:+0200
TZNAME:CEST
DTSTART:20230326T010000
END:DAYLIGHT
BEGIN:STANDARD
TZOFFSETFROM:+0200
TZOFFSETTO:+0100
TZNAME:CET
DTSTART:20231029T010000
END:STANDARD
BEGIN:DAYLIGHT
TZOFFSETFROM:+0100
TZOFFSETTO:+0200
TZNAME:CEST
DTSTART:20240331T010000
END:DAYLIGHT
BEGIN:STANDARD
TZOFFSETFROM:+0200
TZOFFSETTO:+0100
TZNAME:CET
DTSTART:20241027T010000
END:STANDARD
END:VTIMEZONE
BEGIN:VEVENT
DTSTART;TZID=Europe/Paris:20230606T080000
DTEND;TZID=Europe/Paris:20230606T170000
DTSTAMP:20260423T000042
CREATED:20241219T095519Z
LAST-MODIFIED:20241219T101013Z
UID:3712-1686038400-1686070800@modyco.fr
SUMMARY:Journée des doctorants de MoDyCo 2023
DESCRIPTION:Le mardi 6 juin 2023 se tiendra la prochaine journée des doctorants du laboratoire MoDyCo. Chaque participant disposera de 30 minutes\, questions comprises\, pour présenter son travail. Comme chaque année\, c’est l’occasion pour tous les doctorants d’y présenter l’avancement de leurs travaux et de découvrir les recherches de leurs pairs. \n\n\n\nTous les membres du laboratoire\, quel que soit leur statut\, sont invités à assister à cette journée\, et les chercheurs et doctorants extérieurs sont les bienvenus. \nLes présentations se feront en français. La participation à la journée est gratuite. L’inscription est seulement obligatoire pour les doctorants qui effectuent une présentation orale. \nL’événement aura lieu à l’Université Paris Nanterre\, dans l’amphithéâtre BFC\, dans le bâtiment de la Formation Continue [Plan]. \n\n\n\n\n\n\n\nLa journée comprendra neuf interventions de doctorants issus des trois pôles de recherche MoDyCo. Le format proposé sera de 15/20 minutes de présentation (avec diaporama) suivies de 15/10 minutes de discussion\, soit un total de 30 minutes par participant. \nIl y aura une pause café le matin et l’après-midi\, et le buffet du déjeuner sera offert à tous afin de faire de cette journée un moment convivial pour tous les membres du laboratoire. Le déjeuner\, sous forme d’un buffet offert à tous\, sera servi dans le hall du bâtiment de formation continue.
URL:https://modyco.fr/event/journee-des-doctorants-de-modyco2023/
LOCATION:Université Paris Nanterre- Batiment de la Formation Continue  (BFC) – Salle de conférences – amphithéâtre\, Paris Nanterre- Batiment de la Formation Continue - Salle de conférences
CATEGORIES:Colloques
END:VEVENT
END:VCALENDAR