BEGIN:VCALENDAR
VERSION:2.0
PRODID:-//MoDyCo - ECPv6.15.11//NONSGML v1.0//EN
CALSCALE:GREGORIAN
METHOD:PUBLISH
X-ORIGINAL-URL:https://modyco.fr
X-WR-CALDESC:Évènements pour MoDyCo
REFRESH-INTERVAL;VALUE=DURATION:PT1H
X-Robots-Tag:noindex
X-PUBLISHED-TTL:PT1H
BEGIN:VTIMEZONE
TZID:Europe/Paris
BEGIN:DAYLIGHT
TZOFFSETFROM:+0100
TZOFFSETTO:+0200
TZNAME:CEST
DTSTART:20240331T010000
END:DAYLIGHT
BEGIN:STANDARD
TZOFFSETFROM:+0200
TZOFFSETTO:+0100
TZNAME:CET
DTSTART:20241027T010000
END:STANDARD
BEGIN:DAYLIGHT
TZOFFSETFROM:+0100
TZOFFSETTO:+0200
TZNAME:CEST
DTSTART:20250330T010000
END:DAYLIGHT
BEGIN:STANDARD
TZOFFSETFROM:+0200
TZOFFSETTO:+0100
TZNAME:CET
DTSTART:20251026T010000
END:STANDARD
BEGIN:DAYLIGHT
TZOFFSETFROM:+0100
TZOFFSETTO:+0200
TZNAME:CEST
DTSTART:20260329T010000
END:DAYLIGHT
BEGIN:STANDARD
TZOFFSETFROM:+0200
TZOFFSETTO:+0100
TZNAME:CET
DTSTART:20261025T010000
END:STANDARD
END:VTIMEZONE
BEGIN:VEVENT
DTSTART;TZID=Europe/Paris:20250606T140000
DTEND;TZID=Europe/Paris:20250606T170000
DTSTAMP:20260423T003942
CREATED:20250331T091649Z
LAST-MODIFIED:20250605T114306Z
UID:3963-1749218400-1749229200@modyco.fr
SUMMARY:séminaire "Le récit de soi au fil des genres de discours - Saisir les institutions politiques par le travail biographique" (séance 4). Sylvie Garnier et Tristan Rouquet : les écrits en défense
DESCRIPTION:La prochaine séance du séminaire “Le récit de soi au fil des genres de discours – Saisir les institutions politiques par le travail biographique” se tiendra le vendredi 6 juin de 14h à 17h à l’Université Paris Nanterre\, en salle de séminaire 1 du bâtiment Weber. \nSéance 4. Les écrits en défense \nIntervenants : Sylvie Garnier et Tristan Rouquet \nRésumé : \nEn situation de crise\, face à des reconfigurations historiques et politiques majeures\, les récits de soi\, qu’ils soient publics ou enregistrés par des procédures administratives ou judiciaires\, constituent à la fois des réponses à une situation extrême et les ressources d’un ajustement contraint à de nouvelles « règles du jeu ». Cette séance permettra de faire dialoguer les « conduites politiques » de patriotes emprisonnés pendant la révolution française et les récits des écrivains collaborateurs condamnés à la Libération. \nPrésentation du séminaire : \nDans l’histoire complexe de la collaboration interdisciplinaire entre linguistique et sciences sociales\, le politique est vite apparu comme un terrain d’investigation central\, représenté dans les travaux pionniers de Michel Pêcheux (1975)\, Régine Robin (1973) ou de Jacques Guilhaumou et Antoine Prost (1974). L’« analyse du discours » a ainsi été fondée qui prenait des textes politiques (motions\, tracts\, journaux) pour objets ou cherchait à donner à d’autres textes une lecture politique (en particulier à travers la notion d’« idéologie »). Néanmoins\, depuis les années 1980\, les échanges entre linguistes et historiens et sociologues du politique ont diminué et la position des analystes de discours s’est recomposée autour d’une étude plus large des « discours institutionnels » ou « médiatiques »\, décentrée par rapport à l’objet politique\, en même temps que se faisait sentir la nécessité de s’intéresser au discours du « quotidien » (Conein et al. 1980\, Pêcheux à paraître) plutôt qu’au discours d’appareil\, notamment sous l’effet de la réception du travail de Foucault sur la « microphysique » du pouvoir (1975). Pourtant\, l’analyse du discours peut précisément offrir une porte d’entrée – complémentaire à la sociologie des institutions politiques (Lagroye et Offerlé 2010) – pour saisir\, à travers les écrits quotidiens et routiniers\, la genèse des institutions\, leur fonctionnement et leurs impacts sur les trajectoires de leurs acteurs.
URL:https://modyco.fr/event/seminaire-le-recit-de-soi-au-fil-des-genres-de-discours-saisir-les-institutions-politiques-par-le-travail-biographique-seance-4-sylvie-garnier-et-tristan-rouquet-les-ecrits-en-defense/
LOCATION:Université Paris Nanterre\, 200 avenue de la république\, Nanterre\, 92000
END:VEVENT
END:VCALENDAR