BEGIN:VCALENDAR
VERSION:2.0
PRODID:-//MoDyCo - ECPv6.15.11//NONSGML v1.0//EN
CALSCALE:GREGORIAN
METHOD:PUBLISH
X-ORIGINAL-URL:https://modyco.fr
X-WR-CALDESC:Évènements pour MoDyCo
REFRESH-INTERVAL;VALUE=DURATION:PT1H
X-Robots-Tag:noindex
X-PUBLISHED-TTL:PT1H
BEGIN:VTIMEZONE
TZID:Europe/Paris
BEGIN:DAYLIGHT
TZOFFSETFROM:+0100
TZOFFSETTO:+0200
TZNAME:CEST
DTSTART:20240331T010000
END:DAYLIGHT
BEGIN:STANDARD
TZOFFSETFROM:+0200
TZOFFSETTO:+0100
TZNAME:CET
DTSTART:20241027T010000
END:STANDARD
BEGIN:DAYLIGHT
TZOFFSETFROM:+0100
TZOFFSETTO:+0200
TZNAME:CEST
DTSTART:20250330T010000
END:DAYLIGHT
BEGIN:STANDARD
TZOFFSETFROM:+0200
TZOFFSETTO:+0100
TZNAME:CET
DTSTART:20251026T010000
END:STANDARD
BEGIN:DAYLIGHT
TZOFFSETFROM:+0100
TZOFFSETTO:+0200
TZNAME:CEST
DTSTART:20260329T010000
END:DAYLIGHT
BEGIN:STANDARD
TZOFFSETFROM:+0200
TZOFFSETTO:+0100
TZNAME:CET
DTSTART:20261025T010000
END:STANDARD
END:VTIMEZONE
BEGIN:VEVENT
DTSTART;TZID=Europe/Paris:20250430T100000
DTEND;TZID=Europe/Paris:20250430T160000
DTSTAMP:20260423T005425
CREATED:20250317T080350Z
LAST-MODIFIED:20250317T080350Z
UID:3934-1746007200-1746028800@modyco.fr
SUMMARY:Formation au logiciel TXM par l’équipe du projet ArchivU
DESCRIPTION:L’équipe du projet ArchivU organise une journée de formation au logiciel TXM\, plateforme open-source de textométrie pour l’exploration de corpus textuels par les disciplines de SHS (sociologie\, histoire\, information-communication\, sciences du langage\, etc.). La formation sera dédiée à la constitution\, l’import et l’analyse d’un corpus\, à partir de l’exemple de données de presse écrite.  \nCette formation tournée vers la découverte des fonctionnalités de base de TXM est accessible sans connaissances préalables en linguistique ou en statistiques. Elle aura lieu en présentiel à l’Université Paris Est Créteil le 30/04/2025\, 10h-16h.  \nLe nombre de place étant limité\, une inscription gratuite est nécessaire :\n·TXM\, constitution et importation de corpus de presse : https://forms.office.com/r/xbPchUei0W \nLa formation aura lieu en salle informatique\, de sorte qu’il n’est pas nécessaire que les participants apportent une machine avec une installation de TXM.  \nLe projet ArchivU (L’université au miroir de ses archives) interroge les mutations de l’institution universitaire et du travail scientifique depuis la mise en place\, autour des années 1970\, de l’université telle que nous la connaissons encore aujourd’hui. Initiée par Frédérique Sitri\, cette recherche est conduite à partir de corpus numériques de comptes-rendus de conseils d’administration et de rapports d’activité\, d’évaluation et d’auto-évaluation des laboratoires\, dans une approche d’analyse du discours outillée. \nCette formation est organisée avec le Céditec (Université Paris Est Créteil)\, Modyco (Université Paris Nanterre & CNRS) et ELLIADD (Université Marie et Louis Pasteur).
URL:https://modyco.fr/event/formation-txm-projet-archivu-20250430/
LOCATION:Université Paris Est Créteil\, Creteil
END:VEVENT
END:VCALENDAR