BEGIN:VCALENDAR
VERSION:2.0
PRODID:-//MoDyCo - ECPv6.15.11//NONSGML v1.0//EN
CALSCALE:GREGORIAN
METHOD:PUBLISH
X-WR-CALNAME:MoDyCo
X-ORIGINAL-URL:https://modyco.fr
X-WR-CALDESC:Évènements pour MoDyCo
REFRESH-INTERVAL;VALUE=DURATION:PT1H
X-Robots-Tag:noindex
X-PUBLISHED-TTL:PT1H
BEGIN:VTIMEZONE
TZID:Europe/Paris
BEGIN:DAYLIGHT
TZOFFSETFROM:+0100
TZOFFSETTO:+0200
TZNAME:CEST
DTSTART:20240331T010000
END:DAYLIGHT
BEGIN:STANDARD
TZOFFSETFROM:+0200
TZOFFSETTO:+0100
TZNAME:CET
DTSTART:20241027T010000
END:STANDARD
BEGIN:DAYLIGHT
TZOFFSETFROM:+0100
TZOFFSETTO:+0200
TZNAME:CEST
DTSTART:20250330T010000
END:DAYLIGHT
BEGIN:STANDARD
TZOFFSETFROM:+0200
TZOFFSETTO:+0100
TZNAME:CET
DTSTART:20251026T010000
END:STANDARD
BEGIN:DAYLIGHT
TZOFFSETFROM:+0100
TZOFFSETTO:+0200
TZNAME:CEST
DTSTART:20260329T010000
END:DAYLIGHT
BEGIN:STANDARD
TZOFFSETFROM:+0200
TZOFFSETTO:+0100
TZNAME:CET
DTSTART:20261025T010000
END:STANDARD
END:VTIMEZONE
BEGIN:VEVENT
DTSTART;TZID=Europe/Paris:20250109T140000
DTEND;TZID=Europe/Paris:20250109T170000
DTSTAMP:20260423T061721
CREATED:20250106T150912Z
LAST-MODIFIED:20250106T150912Z
UID:3830-1736431200-1736442000@modyco.fr
SUMMARY:Soutenance de thèse de Raphaël Prénovec
DESCRIPTION:Raphaël Prénovec – Soutenance de thèse en sciences du langage\, réalisée sous la direction de Anne Lacheret-Dujour et de Caroline Bogliotti et intitulée :  \nLa littératie chez les sourds : états des lieux sociolinguistique et linguistique\, perspectives didactiques. \nLa soutenance aura lieu le jeudi 9 janvier 2025 de 14h00 à 18h à l’Université Paris Nanterre\, au 200\, avenue de la République\, 92000 Nanterre (métro Nanterre Université) en salle 406 du bâtiment Rémond (4ème étage). \nLa thèse sera présentée devant un jury composé de : \nMehmet-Ali AKINCI\, Professeur des Universités HDR en Sciences du Langage\, Université de Rouen-Normandie\, rapporteur \nCaroline BOGLIOTTI\, MCF-HDR en Sciences du langage\, Université Paris-Nanterre\, co-directrice de thèse \nGeorgeta CISLARU\, Professeure des Universités HDR en Sciences du Langage\, Université Sorbonne-Nouvelle\, Paris 3\, rapporteure \nAnne-Sarah DE VOGUE-LUPINKO\, MCF en Sciences du Langage\, Université Paris-Nanterre\, examinatrice \nAnne LACHERET-DUJOUR\, Professeure des Universités HDR en Sciences du Langage\, Université Paris-Nanterre\, directrice de thèse \nMarie PERINI\, MCF en Sciences du Langage\, Université Paris 8\, examinatrice
URL:https://modyco.fr/event/soutenance-de-these-de-raphael-prenovec/
LOCATION:salle 406\, 4ème étage du bâtiment A\, salle 406\, 4ème étage du bâtiment A
CATEGORIES:Soutenances
END:VEVENT
END:VCALENDAR