BEGIN:VCALENDAR
VERSION:2.0
PRODID:-//MoDyCo - ECPv6.15.11//NONSGML v1.0//EN
CALSCALE:GREGORIAN
METHOD:PUBLISH
X-ORIGINAL-URL:https://modyco.fr
X-WR-CALDESC:Évènements pour MoDyCo
REFRESH-INTERVAL;VALUE=DURATION:PT1H
X-Robots-Tag:noindex
X-PUBLISHED-TTL:PT1H
BEGIN:VTIMEZONE
TZID:Europe/Paris
BEGIN:DAYLIGHT
TZOFFSETFROM:+0100
TZOFFSETTO:+0200
TZNAME:CEST
DTSTART:20230326T010000
END:DAYLIGHT
BEGIN:STANDARD
TZOFFSETFROM:+0200
TZOFFSETTO:+0100
TZNAME:CET
DTSTART:20231029T010000
END:STANDARD
BEGIN:DAYLIGHT
TZOFFSETFROM:+0100
TZOFFSETTO:+0200
TZNAME:CEST
DTSTART:20240331T010000
END:DAYLIGHT
BEGIN:STANDARD
TZOFFSETFROM:+0200
TZOFFSETTO:+0100
TZNAME:CET
DTSTART:20241027T010000
END:STANDARD
BEGIN:DAYLIGHT
TZOFFSETFROM:+0100
TZOFFSETTO:+0200
TZNAME:CEST
DTSTART:20250330T010000
END:DAYLIGHT
BEGIN:STANDARD
TZOFFSETFROM:+0200
TZOFFSETTO:+0100
TZNAME:CET
DTSTART:20251026T010000
END:STANDARD
END:VTIMEZONE
BEGIN:VEVENT
DTSTART;TZID=Europe/Paris:20240514T100000
DTEND;TZID=Europe/Paris:20240514T120000
DTSTAMP:20260423T174232
CREATED:20240112T114310Z
LAST-MODIFIED:20240112T114928Z
UID:3535-1715680800-1715688000@modyco.fr
SUMMARY:Séminaire Psycholinguistique. Leticia Schiavon Kolberg
DESCRIPTION:UMR 7114 Modyco\, Université Paris Nanterre \n 
URL:https://modyco.fr/event/seminaire-psycholinguistique-leticia-schiavon-kolberg/
LOCATION:Université Paris Nanterre\, Bat. Weber\, Salle de séminaire 1\, Université Paris Nanterre\, Bat. Weber\, Salle de séminaire 1
CATEGORIES:Séminaire Psycholinguistique, Neurocognition, Acquisitions et Variations
END:VEVENT
END:VCALENDAR