BEGIN:VCALENDAR
VERSION:2.0
PRODID:-//MoDyCo - ECPv6.15.11//NONSGML v1.0//EN
CALSCALE:GREGORIAN
METHOD:PUBLISH
X-ORIGINAL-URL:https://modyco.fr
X-WR-CALDESC:Évènements pour MoDyCo
REFRESH-INTERVAL;VALUE=DURATION:PT1H
X-Robots-Tag:noindex
X-PUBLISHED-TTL:PT1H
BEGIN:VTIMEZONE
TZID:Europe/Paris
BEGIN:DAYLIGHT
TZOFFSETFROM:+0100
TZOFFSETTO:+0200
TZNAME:CEST
DTSTART:20220327T010000
END:DAYLIGHT
BEGIN:STANDARD
TZOFFSETFROM:+0200
TZOFFSETTO:+0100
TZNAME:CET
DTSTART:20221030T010000
END:STANDARD
BEGIN:DAYLIGHT
TZOFFSETFROM:+0100
TZOFFSETTO:+0200
TZNAME:CEST
DTSTART:20230326T010000
END:DAYLIGHT
BEGIN:STANDARD
TZOFFSETFROM:+0200
TZOFFSETTO:+0100
TZNAME:CET
DTSTART:20231029T010000
END:STANDARD
BEGIN:DAYLIGHT
TZOFFSETFROM:+0100
TZOFFSETTO:+0200
TZNAME:CEST
DTSTART:20240331T010000
END:DAYLIGHT
BEGIN:STANDARD
TZOFFSETFROM:+0200
TZOFFSETTO:+0100
TZNAME:CET
DTSTART:20241027T010000
END:STANDARD
END:VTIMEZONE
BEGIN:VEVENT
DTSTART;TZID=Europe/Paris:20230502T100000
DTEND;TZID=Europe/Paris:20230502T120000
DTSTAMP:20260424T135707
CREATED:20221004T125629Z
LAST-MODIFIED:20230219T135631Z
UID:3075-1683021600-1683028800@modyco.fr
SUMMARY:Séminaire doctoral du 2 mai 2023
DESCRIPTION:Intervenant : Daniel Gravis et Marzena Watorek
URL:https://modyco.fr/event/seminaire-doctoral-du-2-mai-2023/
LOCATION:Université Nanterre. Salle Séminaire 2 au Rez-de-chaussée du bâtiment Max Weber (en face du bâtiment A\, René Rémond).\, Université Nanterre. Salle Séminaire 2 au Rez-de-chaussée du bâtiment Max Weber (en face du bâtiment A\, René Rémond). 
CATEGORIES:Séminaire doctoral de MoDyCo
END:VEVENT
END:VCALENDAR