BEGIN:VCALENDAR
VERSION:2.0
PRODID:-//MoDyCo - ECPv6.15.11//NONSGML v1.0//EN
CALSCALE:GREGORIAN
METHOD:PUBLISH
X-ORIGINAL-URL:https://modyco.fr
X-WR-CALDESC:Évènements pour MoDyCo
REFRESH-INTERVAL;VALUE=DURATION:PT1H
X-Robots-Tag:noindex
X-PUBLISHED-TTL:PT1H
BEGIN:VTIMEZONE
TZID:Europe/Paris
BEGIN:DAYLIGHT
TZOFFSETFROM:+0100
TZOFFSETTO:+0200
TZNAME:CEST
DTSTART:20210328T010000
END:DAYLIGHT
BEGIN:STANDARD
TZOFFSETFROM:+0200
TZOFFSETTO:+0100
TZNAME:CET
DTSTART:20211031T010000
END:STANDARD
BEGIN:DAYLIGHT
TZOFFSETFROM:+0100
TZOFFSETTO:+0200
TZNAME:CEST
DTSTART:20220327T010000
END:DAYLIGHT
BEGIN:STANDARD
TZOFFSETFROM:+0200
TZOFFSETTO:+0100
TZNAME:CET
DTSTART:20221030T010000
END:STANDARD
BEGIN:DAYLIGHT
TZOFFSETFROM:+0100
TZOFFSETTO:+0200
TZNAME:CEST
DTSTART:20230326T010000
END:DAYLIGHT
BEGIN:STANDARD
TZOFFSETFROM:+0200
TZOFFSETTO:+0100
TZNAME:CET
DTSTART:20231029T010000
END:STANDARD
END:VTIMEZONE
BEGIN:VEVENT
DTSTART;TZID=Europe/Paris:20221128T140000
DTEND;TZID=Europe/Paris:20221128T160000
DTSTAMP:20260424T180137
CREATED:20221109T080554Z
LAST-MODIFIED:20230219T134940Z
UID:3243-1669644000-1669651200@modyco.fr
SUMMARY:Séminaire Epistémologie des Sciences du Langage du 28 novembre 2022 : Nicolas Guilliot (Université Bordeaux Montaigne\, Laboratoire CLLE Montaigne\, UMR 5263)
DESCRIPTION:Titre de la communication : Notion de Modèle et Grammaire Générative\n\n\n\n\nCette séance aura lieu par zoom le lundi 28 novembre 2022 de 14h à 16h \nRésuméComme le titre l’indique clairement\, l’objectif de cette présentation sera d’illustrer la notionde modèle (théorique) à travers une des approches influentes en linguistique contemporaine :la grammaire générative développée par Noam Chomsky. Nous partirons de définitionscommunément admises sur les notions de théorie et de modèle (voir Fuchs (2011) entreautres) avant de cerner les postulats fondamentaux développés en grammaire générative. Lesobjectifs de ce séminaire seront d’offrir le panorama le plus large possible sur les étudeslinguistiques qui s’inscrivent dans le cadre génératif\, tout en donnant une perspectivehistorique sur l’évolution du modèle\, voire plutôt le développement de modèles successifsplus conformes à l’avancée des recherches en Sciences du Langage (cf. Chomsky (1957\, 1981\,1995) entre autres). Enfin\, nous tâcherons également d’offrir une perspective comparative\,en particulier avec le courant structuraliste saussurien\, pour montrer en quoi ces approchesdivergent\, tout en faisant apparaître des points de convergences non–négligeables\, que nousillustrerons à partir d’études linguistiques concrètes (morphologiques\, prosodiques\,syntaxiques\, et sémantiques). Cette comparaison\, également développée dans Guilliot (àparaître\, 2023)\, sera basée entre autres sur les travaux de leur « fondateurs » ou de leurs« disciples » (comme L. Bloomfield ou Z. Harris d’un côté\, et F. Newmeyer ou C. Boeckx del’autre)\, mais aussi sur des comparaisons déjà établies dans la littérature (voir Koerner (2002)\,Maniglier (2005) entre autres). Elle nous permettra d’évoquer d’autres modèles (tels que lenéo–structuralisme décrit dans Elman (1990)\, et son lien avec l’approche connexionnistedéfendue par Smolensky & Legendre (2011)) ou des orientations très récentes de cesapproches (cf. Kempson et al (2005) ou Bouchard (2013) entre autres)\, par exemple à traversle développement de la biolinguistique (cf. Boeckx (2015)). \n\n\n\n\n\n\nBibliographie indicativeBoeckx\, Cedric (2015) “Beyond Humboldt’s problem: Reflections on biolinguistics and itsrelation to generative grammar”\, Language Sciences 50\, pp.127–132Bouchard\, Denis (2013) The Nature and Origin of Language\, OUP\, Oxford.Chomsky\, Noam (1957) Syntactic Structures\, Mouton & Co.Chomsky\, Noam (1965) Aspects of the Theory of Syntax\, MIT Press\, Cambridge.Chomsky\, Noam (1981) Lectures on Government and Binding\, Foris Publications.Chomsky\, Noam (1995) The Minimalist Program\, MIT Press\, Cambridge.Elman\, Jeffrey L. (1990) “Finding structure in time”\, Cognitive Science 14\, pp.179–211.Fuchs\, Catherine (2011) « Quelques remarques sur la notion de modèle en linguistique. LeModèle »\, Presses de l’université de Bretagne Occidentale\, pp.331–340.\, Amadis.Cann\, Ronnie\, Kempson\, Ruth\, & Marten\, Lutz (2005) The Dynamics of Language\, Oxford\,Elsevier.Guilliot\, Nicolas (à paraître\, 2023) Enjeux théoriques en syntaxe : interfaces\, cognition\, etlinéarité – Coordination et partage syntaxique\, Presses Universitaires de Rennes (PUR).Koerner\, Ernst F. K. (2002) Toward a History of American Linguistics\, Routledge\, London.Maniglier\, Patrice (2005) « Les choses du langage : de Saussure au structuralisme »\, Figures dela psychanalyse 12\, pp.27–44.Smolensky\, Paul\, & Legendre\, Géraldine (2011) The Harmonic Mind: from neural computationto optimality–theoretic grammar\, volume 1 : Cognitive Architecture. The MIT Press.
URL:https://modyco.fr/event/seminaire-epistemologie-des-sciences-du-langage-du-28-novembre-2022-de-14h-a-16h/
CATEGORIES:Séminaire Epistémologie des Sciences du Langage 2022-2023
END:VEVENT
END:VCALENDAR